BEGIN:VCALENDAR
VERSION:2.0
PRODID:-//Guildford &amp; Godalming Athletic Club - ECPv6.15.20//NONSGML v1.0//EN
CALSCALE:GREGORIAN
METHOD:PUBLISH
X-WR-CALNAME:Guildford &amp; Godalming Athletic Club
X-ORIGINAL-URL:https://ggac.co.uk
X-WR-CALDESC:Events for Guildford &amp; Godalming Athletic Club
REFRESH-INTERVAL;VALUE=DURATION:PT1H
X-Robots-Tag:noindex
X-PUBLISHED-TTL:PT1H
BEGIN:VTIMEZONE
TZID:UTC
BEGIN:STANDARD
TZOFFSETFROM:+0000
TZOFFSETTO:+0000
TZNAME:UTC
DTSTART:20200101T000000
END:STANDARD
END:VTIMEZONE
BEGIN:VEVENT
DTSTART;VALUE=DATE:20210911
DTEND;VALUE=DATE:20210913
DTSTAMP:20260421T131753
CREATED:20210711T174550Z
LAST-MODIFIED:20210713T072704Z
UID:531-1631318400-1631491199@ggac.co.uk
SUMMARY:Surrey Multi events
DESCRIPTION:
URL:https://ggac.co.uk/event/surrey-multi-events/
LOCATION:Sutton
CATEGORIES:Age Group,Track,Track & Field
END:VEVENT
BEGIN:VEVENT
DTSTART;VALUE=DATE:20210904
DTEND;VALUE=DATE:20210905
DTSTAMP:20260421T131753
CREATED:20210904T110050Z
LAST-MODIFIED:20210713T070437Z
UID:528-1630713600-1630799999@ggac.co.uk
SUMMARY:YDL Lower Girls/Boys
DESCRIPTION:
URL:https://ggac.co.uk/event/ydl-lower-girls-boys-2/
LOCATION:Sutton
CATEGORIES:Age Group,Track & Field
END:VEVENT
BEGIN:VEVENT
DTSTART;VALUE=DATE:20210904
DTEND;VALUE=DATE:20210905
DTSTAMP:20260421T131753
CREATED:20210713T072544Z
LAST-MODIFIED:20210713T072544Z
UID:559-1630713600-1630799999@ggac.co.uk
SUMMARY:YDL Lower Girls/Boys
DESCRIPTION:
URL:https://ggac.co.uk/event/ydl-lower-girls-boys-3/
LOCATION:Sutton
CATEGORIES:Age Group,Track,Track & Field
END:VEVENT
BEGIN:VEVENT
DTSTART;VALUE=DATE:20210828
DTEND;VALUE=DATE:20210829
DTSTAMP:20260421T131753
CREATED:20210713T072410Z
LAST-MODIFIED:20210713T072410Z
UID:554-1630108800-1630195199@ggac.co.uk
SUMMARY:Lilly B Girls
DESCRIPTION:
URL:https://ggac.co.uk/event/lilly-b-girls/
LOCATION:Sutton
CATEGORIES:Age Group,Track & Field
END:VEVENT
BEGIN:VEVENT
DTSTART;VALUE=DATE:20210731
DTEND;VALUE=DATE:20210802
DTSTAMP:20260421T131753
CREATED:20210713T072223Z
LAST-MODIFIED:20210713T072223Z
UID:552-1627689600-1627862399@ggac.co.uk
SUMMARY:Surrey Athletics Track and Field Championships
DESCRIPTION:
URL:https://ggac.co.uk/event/surrey-athletics-track-and-field-championships/
LOCATION:Kingsmeadow Athletics & Fitness Centre\, Kingsmeadow Athletics & Fitness Centre\, Kingston\, KT1 3PB
CATEGORIES:Age Group,Races,Track & Field
END:VEVENT
BEGIN:VEVENT
DTSTART;VALUE=DATE:20210630
DTEND;VALUE=DATE:20210701
DTSTAMP:20260421T131753
CREATED:20210420T195215Z
LAST-MODIFIED:20210420T195215Z
UID:447-1625011200-1625097599@ggac.co.uk
SUMMARY:AFD Distance Track Meet
DESCRIPTION:800m\, 3000m
URL:https://ggac.co.uk/event/afd-distance-track-meet-2/
LOCATION:Aldershot Military Stadium\, 2JL\, Queen's Ave\, Aldershot\, Aldershot\, Hampshire\, GU11 2JL\, United Kingdom
CATEGORIES:Track,Track & Field
END:VEVENT
BEGIN:VEVENT
DTSTART;VALUE=DATE:20210620
DTEND;VALUE=DATE:20210621
DTSTAMP:20260421T131753
CREATED:20210405T113634Z
LAST-MODIFIED:20210405T113634Z
UID:402-1624147200-1624233599@ggac.co.uk
SUMMARY:Southern Athletics League
DESCRIPTION:The Southern Athletics League is the area track and field league for clubs in the SEAA region who wish to compete in joint (male & female) teams. \nThe league obtained a grant from UKA in 2011 and was sponsored by Sweatshop from 2012 to 2017.
URL:https://ggac.co.uk/event/southern-athletics-league/
LOCATION:Aldershot Military Stadium\, 2JL\, Queen's Ave\, Aldershot\, Aldershot\, Hampshire\, GU11 2JL\, United Kingdom
CATEGORIES:Track & Field
END:VEVENT
BEGIN:VEVENT
DTSTART;TZID=UTC:20210608T080000
DTEND;TZID=UTC:20210608T170000
DTSTAMP:20260421T131753
CREATED:20210608T145124Z
LAST-MODIFIED:20210608T145230Z
UID:497-1623139200-1623171600@ggac.co.uk
SUMMARY:2021 Track & Field Fixture List
DESCRIPTION:The fixtures arranged for  the 2021 are listed below. \nHowever\, due to the current COVID issues\, these events are subject to change – therefore\, prior to setting-off to a meeting\, we suggest that you consult the relevant team manager to ensure that the meeting will be happening. \n\n\n\nDay\nDate\nFixture\nAge Group\nVenue\n\n\nSun\nJun-20\nSouthern Athletics Lge M/W\nSenior\nAldershot\n\n\nSat\nJun-26\nLily B Girls\nU17/15/13\nKingston\n\n\nSun\nJun-27\nYDL Upper M/W\nU20/17\nGuildford\n\n\nSun\nJul-04\nAlder Valley Girls\nU17/15/13\nGuildford\n\n\nWed\nJul-07\nEvening Senior Open Meeting\nSnr / U20\nGuildford\n\n\nSat\nJul-10\nAlder Valley Boys\nU17/15/13\nEton\n\n\nSun\nJul-11\nSouthern Athletics Lge M/W\nSenior\nBracknell\n\n\nSat\nJul-17\nYDL Lower Girls/Boys\nU15/13\nGuildford\n\n\nSat\nJul-24\nEbbisham League/Boys\nU17/15/13\nTBC\n\n\nSun\nJul-25\nYDL Upper M/W\nU20/17\nWinchester\n\n\nSat\nJul-31\nSurrey Championships\nAll ages\nKingston\n\n\nSun\nAug-01\nSurrey Championships\nAll ages\nKingston\n\n\nSat\nAug-07\nLily B Girls\nU17/15/13\nGuildford\n\n\nSat\nAug-14\nSouthern Athletics Lge M/W\nSenior\nAldershot\n\n\nSun\nAug-15\nEbbisham League/Boys\nU17/15/13\nTBC\n\n\nSun\nAug-15\nAlder Valley Girls\nU17/15/13\nBracknell\n\n\nSun\nAug-22\nAlder Valley Boys\nU17/15/13\nAldershot\n\n\nSat\nAug-28\nLily B Girls\nU17/15/13\nSutton\n\n\nSat\nSep-04\nYDL Lower Girls/Boys\nU15/13\nSutton\n\n\nSun\nSep-05\nYDL Upper M/W\nU20/17\nBrn’mouth\n\n\nSat\nSep-11\nSouthern Athletics Lge M/W\nSenior\nEton\n\n\nSat\nSep-11\nSurrey Multi events\nAll Ages\nSutton\n\n\nSun\nSep-12\nSurrey Multi events\nAll Ages\nSutton
URL:https://ggac.co.uk/event/2021-track-field-fixture-list/
CATEGORIES:Track & Field
END:VEVENT
BEGIN:VEVENT
DTSTART;VALUE=DATE:20210605
DTEND;VALUE=DATE:20210606
DTSTAMP:20260421T131753
CREATED:20210405T112656Z
LAST-MODIFIED:20210405T112656Z
UID:399-1622851200-1622937599@ggac.co.uk
SUMMARY:YDL Lower Girls/Boys
DESCRIPTION:TRACK\n\n\n\nTIME\nEVENT\nM/F\n\n\n\n11:10\n70m Hurdles\nU13 Girls\nA followed by B\n\n\n11:20\n75m Hurdles\nU13 Boys\nA followed by B\n\n\n11:30\n75m Hurdles\nU15 Girls\nA followed by B\n\n\n11:40\n80m Hurdles\nU15 Boys\nA followed by B\n\n\n11:55\n150m\nU13 Girls\nA followed by B\n\n\n12:05\n150m\nU13 Boys\nA followed by B\n\n\n12:15\n200m\nU15 Girls\nA followed by B\n\n\n12:25\n200m\nU15 Boys\nA followed by B\n\n\n12:40\n800m\nU13 Girls\nA followed by B\n\n\n12:50\n800m NS\nU13 Girls\n \n\n\n12:55\n800m\nU13 Boys\nA followed by B\n\n\n13:05\n800m NS\nU13 Boys\n \n\n\n13:10\n800m\nU15 Girls\nA followed by B\n\n\n13:20\n800m NS\nU15 Girls\n \n\n\n13:25\n800m\nU15 Boys\nA followed by B\n\n\n13:35\n800m NS\nU15 Boys\n \n\n\nTrack Break\n\n\n14.00\n75m\nU13 Girls\nA followed by B\n\n\n14.10\n75m NS\nU13 Girls\n \n\n\n14.15\n75m\nU13 Boys\nA followed by B\n\n\n14.25\n75m NS\nU13 Boys\n \n\n\n14.30\n100m\nU15 Girls\nA followed by B\n\n\n14.40\n100m NS\nU15 Girls\n \n\n\n14.45\n100m\nU15 Boys\nA followed by B\n\n\n14.55\n100m NS\nU15 Boys\n \n\n\n15.00\n300m\nU15 Girls\nA followed by B\n\n\n15.10\n300m\nU15 Boys\nA followed by B\n\n\n15.20\n1500m\nU15 Girls\nOne Race\n\n\n15.30\n1500m\nU15 Boys\nOne Race\n\n\n15.40\n1200m\nU13 Girls\nOne Race\n\n\n15.50\n1200m\nU13 Boys\nOne Race\n\n\n16.00\n4x100m\nU15 Girls\nOne Race\n\n\n16.05\n4x100m\nU15 Boys\nOne Race\n\n\n16.10\n4x100m\nU13 Boys\nOne Race\n\n\n16.15\n4x100m\nU13 Girls\nOne Race\n\n\n16.20\n4x300m\nU15 Girls\nOne Race\n\n\n16.25\n4x300m\nU15 Boys\nOne Race
URL:https://ggac.co.uk/event/ydl-lower-girls-boys/
LOCATION:Kingsmeadow Athletics & Fitness Centre\, Kingsmeadow Athletics & Fitness Centre\, Kingston\, KT1 3PB
CATEGORIES:Track & Field
END:VEVENT
BEGIN:VEVENT
DTSTART;VALUE=DATE:20210530
DTEND;VALUE=DATE:20210531
DTSTAMP:20260421T131753
CREATED:20210405T112249Z
LAST-MODIFIED:20210405T112249Z
UID:396-1622332800-1622419199@ggac.co.uk
SUMMARY:YDL Upper M/W
DESCRIPTION:TIME\nEVENT\nM/F\nCOMPETITORS\n\n\n11:00\n400m Hurdles\nU20 Men\nA followed by B\n\n\n11:10\n400m Hurdles\nU17 Men\nA followed by B\n\n\n11:20\n400m Hurdles\nU20 Women\nA followed by B\n\n\n11:30\n300m Hurdles\nU17 Women\nA followed by B\n\n\n11:40\n1500m\nU20 Men\nA & B String\n\n\n11:50\n1500m\nU17 Men\nA & B String\n\n\n12:00\n1500m\nU20 Women\nA & B String\n\n\n12:10\n1500m\nU17 Women\nA & B String\n\n\n12:20\n100m\nU20 Men\nA followed by B\n\n\n12:30\n100m\nU17 Men\nA followed by B\n\n\n12:40\n100m\nU20 Women\nA followed by B\n\n\n12:50\n100m\nU17 Women\nA followed by B\n\n\n13:00\n400m\nU20 Men\nA followed by B\n\n\n13:10\n400m\nU17 Men\nA followed by B\n\n\n13:20\n400m\nU20 Women\nA followed by B\n\n\n13:30\n300m\nU17 Women\nA followed by B\n\n\nTrack Break\n\n\n14.00\n80m Hurdles\nU17 Women\nA followed by B\n\n\n14.10\n3000m\nMen\nAll\n\n\n14.25\n100m Hurdles\nU20 Women\nA followed by B\n\n\n14.35\n100m Hurdles\nU17 Men\nA followed by B\n\n\n14.45\n3000m\nWomen\nAll\n\n\n15.00\n110m Hurdles\nU20 Men\nA followed by B\n\n\n15.15\n200m\nU20 Men\nA followed by B\n\n\n15.25\n200m\nU17 Men\nA followed by B\n\n\n15.30\n200m\nU20 Women\nA followed by B\n\n\n15.40\n200m\nU17 Women\nA followed by B\n\n\n15.50\n800m\nU20 Men\nA followed by B\n\n\n16.00\n800m\nU17 Men\nA followed by B\n\n\n16.10\n800m\nU20 Women\nA followed by B\n\n\n16.20\n800m\nU17 Women\nA followed by B\n\n\n16.30\n2000m S/C\nU20 Men\nA & B String\n\n\n\n\n\n\nOne Race under 20 & under 17 athletes A & B Strings\n\n\n\n\n\n\n\n\nALL OPTIONS\nEVENT\nM/F\n\n\n16.40\n4 x 100m R\nU17 Women\n\n\n16.45\n4 x 100m R\nU17 Men\n\n\n16.50\n4 x 100m R\nU20 Women\n\n\n16.55\n4 x 100m R\nU20 Men\n\n\n17.05\n1500m S/C\nU17 Men A & B String\n\n\n17.15\n1500m S/C\nWomen – All\n\n\n17.25\n4 x 300m R\nU17 Women\n\n\n17.35\n4 x 400m R\nU17 Men\n\n\n17.45\n4 x 400m R\nU20 Women\n\n\n17.55\n4 x 400m R\nU20 Men\n\n\nIn the above steeplechase events A & B String athletes run together\n\n\n\n\n\n\nTIME\nEVENT\nM/F\n\n\n10.15\nHammer\nMen\n\n\n11.00\nLong Jump\nMen\n\n\nPole Vault\nWomen\n\n\n11.35\nHammer\nWomen\n\n\n12.00\nHigh Jump\nMen\n\n\n12.45\nLong Jump\nWomen\n\n\n12.55\nDiscus\nMen\n\n\nShot\nWomen\n\n\n14.15\nDiscus\nWomen\n\n\nShot\nMen\n\n\n14.30\nTriple Jump\nMen\n\n\nPole Vault\nMen\n\n\n15.00\nHigh Jump\nWomen\n\n\n15.35\nJavelin\nMen\n\n\n16.15\nTriple Jump\nWomen\n\n\n16.55\nJavelin\nWomen\n\n\n\n\n\n\n\nWith the exception of vertical jumps\, all athletes will have 3 trials with top 3 U20 & 3 U17 a further 3 trials having first achieved the required standard
URL:https://ggac.co.uk/event/ydl-upper-m-w/
CATEGORIES:Age Group,Track & Field
END:VEVENT
BEGIN:VEVENT
DTSTART;VALUE=DATE:20210526
DTEND;VALUE=DATE:20210527
DTSTAMP:20260421T131753
CREATED:20210420T195123Z
LAST-MODIFIED:20210420T195123Z
UID:445-1621987200-1622073599@ggac.co.uk
SUMMARY:AFD Distance Track Meet
DESCRIPTION:1500m\, 3000m \n 
URL:https://ggac.co.uk/event/afd-distance-track-meet/
LOCATION:Aldershot Military Stadium\, 2JL\, Queen's Ave\, Aldershot\, Aldershot\, Hampshire\, GU11 2JL\, United Kingdom
CATEGORIES:Track,Track & Field
END:VEVENT
BEGIN:VEVENT
DTSTART;VALUE=DATE:20210522
DTEND;VALUE=DATE:20210523
DTSTAMP:20260421T131753
CREATED:20210508T071804Z
LAST-MODIFIED:20210508T071804Z
UID:463-1621641600-1621727999@ggac.co.uk
SUMMARY:Herne Hill Harriers Track Endurance Meeting
DESCRIPTION:Track 5k / 3k / 1500 / 800 at Battersea \nAthletes aged U20 and above may enter up to two events. \nAll U17s and below should only enter one event\, and it must be an event that they are permitted to compete in under UKA rules We must comply with Covid secure guidance.
URL:https://ggac.co.uk/event/herne-hill-harriers-track-endurance-meeting/
LOCATION:Battersea Park\, Battersea Park\, London\, United Kingdom
CATEGORIES:Age Group,Races,Track,Track & Field
END:VEVENT
BEGIN:VEVENT
DTSTART;VALUE=DATE:20210508
DTEND;VALUE=DATE:20210509
DTSTAMP:20260421T131753
CREATED:20210420T195010Z
LAST-MODIFIED:20210420T195010Z
UID:443-1620432000-1620518399@ggac.co.uk
SUMMARY:AFD Track Distance Meet
DESCRIPTION:800m\, 1500\, 5000m
URL:https://ggac.co.uk/event/afd-track-distance-meet/
LOCATION:Aldershot Military Stadium\, 2JL\, Queen's Ave\, Aldershot\, Aldershot\, Hampshire\, GU11 2JL\, United Kingdom
CATEGORIES:Track,Track & Field
END:VEVENT
BEGIN:VEVENT
DTSTART;VALUE=DATE:20210501
DTEND;VALUE=DATE:20210502
DTSTAMP:20260421T131753
CREATED:20210407T074901Z
LAST-MODIFIED:20210407T074901Z
UID:412-1619827200-1619913599@ggac.co.uk
SUMMARY:SLAN 'Coming out' Open Meeting
DESCRIPTION:SLAN ‘Coming out’ Open Meeting \nOnline entry only – Enter max 2 events only. If you enter more than 2 events your entry will be deleted. \n150m\, 300m\, 400m\, 800m\, 3000m LJ & Shot \nU13’s U15’s\, U17’s\, U20’s\, Seniors & Masters \nSenior Athletes to attend meeting alone. Coaches can only attend with prior agreement. \nAll races to be seeded prior to competition & timetable sent to each athlete on Thursday April 29th with time of race/event. The email will contain instructions for how the competition will run to maintain safety for athletes\, officials\, track staff & volunteers \nWhere possible athletes to provide their own Shot. \nNO ENTRIES ACCEPTED ON THE DAY No exception. No Refunds –  \nHealth & Safety Issues related to Inclement weather may mean the meeting is cancelled. \n£ 6 per entry for SLAN competitors. £8 per entry for Non SLAN competitors
URL:https://ggac.co.uk/event/slan-coming-out-open-meeting/
LOCATION:Woodcote High School\, Meadow Rise\, Purley\, Coulsdon\, United Kingdom
CATEGORIES:Track & Field
END:VEVENT
END:VCALENDAR